Package: transmogR Version: 1.3.0 Command: E:\biocbuild\bbs-3.21-bioc\R\bin\R.exe CMD INSTALL transmogR StartedAt: 2025-02-12 16:31:40 -0500 (Wed, 12 Feb 2025) EndedAt: 2025-02-12 16:32:30 -0500 (Wed, 12 Feb 2025) EllapsedTime: 50.4 seconds RetCode: 0 Status: OK