Package: transomics2cytoscape Version: 1.17.0 Command: /Library/Frameworks/R.framework/Resources/bin/R CMD build --keep-empty-dirs --no-resave-data transomics2cytoscape StartedAt: 2025-02-04 18:37:15 -0500 (Tue, 04 Feb 2025) EndedAt: 2025-02-04 18:37:28 -0500 (Tue, 04 Feb 2025) EllapsedTime: 12.5 seconds RetCode: 0 Status: OK PackageFile: transomics2cytoscape_1.17.0.tar.gz PackageFileSize: 11.82 MiB