Package: transomics2cytoscape Version: 1.17.0 Command: /Library/Frameworks/R.framework/Resources/bin/R CMD INSTALL transomics2cytoscape StartedAt: 2025-02-09 15:31:14 -0500 (Sun, 09 Feb 2025) EndedAt: 2025-02-09 15:31:19 -0500 (Sun, 09 Feb 2025) EllapsedTime: 4.9 seconds RetCode: 0 Status: OK