Package: transomics2cytoscape Version: 1.17.0 Command: /home/biocbuild/bbs-3.21-bioc/R/bin/R CMD build --keep-empty-dirs --no-resave-data transomics2cytoscape StartedAt: 2025-02-04 19:36:47 -0500 (Tue, 04 Feb 2025) EndedAt: 2025-02-04 19:36:56 -0500 (Tue, 04 Feb 2025) EllapsedTime: 9.0 seconds RetCode: 0 Status: OK PackageFile: transomics2cytoscape_1.17.0.tar.gz PackageFileSize: 11.82 MiB