Package: transomics2cytoscape Version: 1.17.0 Command: rm -rf transomics2cytoscape.buildbin-libdir && mkdir transomics2cytoscape.buildbin-libdir && E:\biocbuild\bbs-3.21-bioc\R\bin\R.exe CMD INSTALL --build --library=transomics2cytoscape.buildbin-libdir transomics2cytoscape_1.17.0.tar.gz StartedAt: 2025-02-05 09:07:05 -0500 (Wed, 05 Feb 2025) EndedAt: 2025-02-05 09:07:26 -0500 (Wed, 05 Feb 2025) EllapsedTime: 20.9 seconds RetCode: 0 Status: OK PackageFile: transomics2cytoscape_1.17.0.zip PackageFileSize: 11.84 MiB