Package: transomics2cytoscape Version: 1.17.0 Command: chmod a+r transomics2cytoscape -R && E:\biocbuild\bbs-3.21-bioc\R\bin\R.exe CMD build --keep-empty-dirs --no-resave-data transomics2cytoscape StartedAt: 2025-02-04 22:12:06 -0500 (Tue, 04 Feb 2025) EndedAt: 2025-02-04 22:12:41 -0500 (Tue, 04 Feb 2025) EllapsedTime: 34.6 seconds RetCode: 0 Status: OK PackageFile: transomics2cytoscape_1.17.0.tar.gz PackageFileSize: 11.82 MiB