Package: transomics2cytoscape Version: 1.17.0 Command: E:\biocbuild\bbs-3.21-bioc\R\bin\R.exe CMD INSTALL transomics2cytoscape StartedAt: 2025-02-04 16:35:57 -0500 (Tue, 04 Feb 2025) EndedAt: 2025-02-04 16:36:55 -0500 (Tue, 04 Feb 2025) EllapsedTime: 58.5 seconds RetCode: 0 Status: OK