Package: traseR Version: 1.37.0 Command: rm -rf traseR.buildbin-libdir && mkdir traseR.buildbin-libdir && /Users/biocbuild/BBS/utils/build-universal.sh traseR_1.37.0.tar.gz /Library/Frameworks/R.framework/Resources/bin/R traseR.buildbin-libdir StartedAt: 2025-02-04 22:35:43 -0500 (Tue, 04 Feb 2025) EndedAt: 2025-02-04 22:35:57 -0500 (Tue, 04 Feb 2025) EllapsedTime: 14.3 seconds RetCode: 0 Status: OK PackageFile: traseR_1.37.0.tgz PackageFileSize: 6.291 MiB