Package: traseR Version: 1.37.0 Command: /Library/Frameworks/R.framework/Resources/bin/R CMD build --keep-empty-dirs --no-resave-data traseR StartedAt: 2025-02-04 17:50:47 -0500 (Tue, 04 Feb 2025) EndedAt: 2025-02-04 17:51:09 -0500 (Tue, 04 Feb 2025) EllapsedTime: 22.3 seconds RetCode: 0 Status: OK PackageFile: traseR_1.37.0.tar.gz PackageFileSize: 6.221 MiB