Package: traseR Version: 1.37.0 Command: /home/biocbuild/R/R/bin/R CMD build --keep-empty-dirs --no-resave-data traseR StartedAt: 2025-01-28 03:00:44 -0000 (Tue, 28 Jan 2025) EndedAt: 2025-01-28 03:01:53 -0000 (Tue, 28 Jan 2025) EllapsedTime: 69.0 seconds RetCode: 0 Status: OK PackageFile: traseR_1.37.0.tar.gz PackageFileSize: 6.225 MiB