Package: traseR Version: 1.37.0 Command: /home/biocbuild/R/R/bin/R CMD check --install=check:traseR.install-out.txt --library=/home/biocbuild/R/R/site-library --no-vignettes --timings traseR_1.37.0.tar.gz StartedAt: 2025-01-28 16:17:28 -0000 (Tue, 28 Jan 2025) EndedAt: 2025-01-28 16:24:15 -0000 (Tue, 28 Jan 2025) EllapsedTime: 407.6 seconds RetCode: 0 Status: OK CheckDir: traseR.Rcheck Warnings: 0