Package: traseR Version: 1.37.0 Command: /home/biocbuild/R/R/bin/R CMD INSTALL traseR StartedAt: 2025-01-29 19:57:29 -0000 (Wed, 29 Jan 2025) EndedAt: 2025-01-29 19:58:12 -0000 (Wed, 29 Jan 2025) EllapsedTime: 42.7 seconds RetCode: 0 Status: OK