Package: traseR Version: 1.37.0 Command: /Library/Frameworks/R.framework/Resources/bin/R CMD build --keep-empty-dirs --no-resave-data traseR StartedAt: 2025-02-12 18:37:32 -0500 (Wed, 12 Feb 2025) EndedAt: 2025-02-12 18:38:29 -0500 (Wed, 12 Feb 2025) EllapsedTime: 57.2 seconds RetCode: 0 Status: OK PackageFile: traseR_1.37.0.tar.gz PackageFileSize: 6.222 MiB