Package: traseR Version: 1.37.0 Command: /home/biocbuild/bbs-3.21-bioc/R/bin/R CMD INSTALL traseR StartedAt: 2025-02-09 15:33:47 -0500 (Sun, 09 Feb 2025) EndedAt: 2025-02-09 15:34:18 -0500 (Sun, 09 Feb 2025) EllapsedTime: 30.5 seconds RetCode: 0 Status: OK