Package: traseR Version: 1.37.0 Command: chmod a+r traseR -R && E:\biocbuild\bbs-3.21-bioc\R\bin\R.exe CMD build --keep-empty-dirs --no-resave-data traseR StartedAt: 2025-02-09 22:10:03 -0500 (Sun, 09 Feb 2025) EndedAt: 2025-02-09 22:11:09 -0500 (Sun, 09 Feb 2025) EllapsedTime: 66.1 seconds RetCode: 0 Status: OK PackageFile: traseR_1.37.0.tar.gz PackageFileSize: 6.223 MiB