Package: traseR Version: 1.37.0 Command: E:\biocbuild\bbs-3.21-bioc\R\bin\R.exe CMD INSTALL traseR StartedAt: 2025-02-09 16:48:23 -0500 (Sun, 09 Feb 2025) EndedAt: 2025-02-09 16:48:59 -0500 (Sun, 09 Feb 2025) EllapsedTime: 36.6 seconds RetCode: 0 Status: OK