Package: treeclimbR Version: 1.3.1 Command: /Library/Frameworks/R.framework/Resources/bin/R CMD build --keep-empty-dirs --no-resave-data treeclimbR StartedAt: 2025-02-05 17:53:02 -0500 (Wed, 05 Feb 2025) EndedAt: 2025-02-05 17:53:27 -0500 (Wed, 05 Feb 2025) EllapsedTime: 25.3 seconds RetCode: 0 Status: OK PackageFile: treeclimbR_1.3.1.tar.gz PackageFileSize: 744.2 KiB