Package: treeclimbR Version: 1.3.1 Command: /Library/Frameworks/R.framework/Resources/bin/R CMD INSTALL treeclimbR StartedAt: 2025-02-05 15:28:15 -0500 (Wed, 05 Feb 2025) EndedAt: 2025-02-05 15:28:30 -0500 (Wed, 05 Feb 2025) EllapsedTime: 14.5 seconds RetCode: 0 Status: OK