Package: treeclimbR Version: 1.3.1 Command: /Library/Frameworks/R.framework/Resources/bin/R CMD check --install=check:treeclimbR.install-out.txt --library=/Library/Frameworks/R.framework/Resources/library --no-vignettes --timings treeclimbR_1.3.1.tar.gz StartedAt: 2025-02-05 23:50:24 -0500 (Wed, 05 Feb 2025) EndedAt: 2025-02-05 23:57:03 -0500 (Wed, 05 Feb 2025) EllapsedTime: 398.5 seconds RetCode: 0 Status: OK CheckDir: treeclimbR.Rcheck Warnings: 0