Package: treeclimbR Version: 1.3.1 Command: /home/biocbuild/bbs-3.21-bioc/R/bin/R CMD check --install=check:treeclimbR.install-out.txt --library=/home/biocbuild/bbs-3.21-bioc/R/site-library --timings treeclimbR_1.3.1.tar.gz StartedAt: 2025-02-06 03:31:59 -0500 (Thu, 06 Feb 2025) EndedAt: 2025-02-06 03:38:21 -0500 (Thu, 06 Feb 2025) EllapsedTime: 382.6 seconds RetCode: 0 Status: OK CheckDir: treeclimbR.Rcheck Warnings: 0