Package: treeclimbR Version: 1.3.1 Command: chmod a+r treeclimbR -R && E:\biocbuild\bbs-3.21-bioc\R\bin\R.exe CMD build --keep-empty-dirs --no-resave-data treeclimbR StartedAt: 2025-02-05 22:17:01 -0500 (Wed, 05 Feb 2025) EndedAt: 2025-02-05 22:18:26 -0500 (Wed, 05 Feb 2025) EllapsedTime: 84.9 seconds RetCode: 0 Status: OK PackageFile: treeclimbR_1.3.1.tar.gz PackageFileSize: 575.3 KiB