Package: treeclimbR Version: 1.3.1 Command: E:\biocbuild\bbs-3.21-bioc\R\bin\R.exe CMD INSTALL treeclimbR StartedAt: 2025-02-05 17:04:05 -0500 (Wed, 05 Feb 2025) EndedAt: 2025-02-05 17:05:27 -0500 (Wed, 05 Feb 2025) EllapsedTime: 81.4 seconds RetCode: 0 Status: OK