Package: treeio Version: 1.31.0 Command: /Library/Frameworks/R.framework/Resources/bin/R CMD build --keep-empty-dirs --no-resave-data treeio StartedAt: 2025-02-09 17:50:27 -0500 (Sun, 09 Feb 2025) EndedAt: 2025-02-09 17:50:31 -0500 (Sun, 09 Feb 2025) EllapsedTime: 4.0 seconds RetCode: 0 Status: OK PackageFile: treeio_1.31.0.tar.gz PackageFileSize: 678.8 KiB