Package: treeio Version: 1.31.0 Command: rm -rf treeio.buildbin-libdir && mkdir treeio.buildbin-libdir && /Users/biocbuild/BBS/utils/build-universal.sh treeio_1.31.0.tar.gz /Library/Frameworks/R.framework/Resources/bin/R treeio.buildbin-libdir StartedAt: 2025-02-05 01:06:57 -0500 (Wed, 05 Feb 2025) EndedAt: 2025-02-05 01:07:10 -0500 (Wed, 05 Feb 2025) EllapsedTime: 12.8 seconds RetCode: 0 Status: OK PackageFile: treeio_1.31.0.tgz PackageFileSize: 910.7 KiB