Package: treeio Version: 1.31.0 Command: /home/biocbuild/bbs-3.21-bioc/R/bin/R CMD INSTALL treeio StartedAt: 2025-02-12 15:09:59 -0500 (Wed, 12 Feb 2025) EndedAt: 2025-02-12 15:10:05 -0500 (Wed, 12 Feb 2025) EllapsedTime: 6.5 seconds RetCode: 0 Status: OK