Package: treeio Version: 1.31.0 Command: rm -rf treeio.buildbin-libdir && mkdir treeio.buildbin-libdir && E:\biocbuild\bbs-3.21-bioc\R\bin\R.exe CMD INSTALL --build --library=treeio.buildbin-libdir treeio_1.31.0.tar.gz StartedAt: 2025-02-13 09:04:58 -0500 (Thu, 13 Feb 2025) EndedAt: 2025-02-13 09:05:49 -0500 (Thu, 13 Feb 2025) EllapsedTime: 51.2 seconds RetCode: 0 Status: OK PackageFile: treeio_1.31.0.zip PackageFileSize: 909.5 KiB