Package: treeio Version: 1.31.0 Command: chmod a+r treeio -R && E:\biocbuild\bbs-3.21-bioc\R\bin\R.exe CMD build --keep-empty-dirs --no-resave-data treeio StartedAt: 2025-02-09 22:10:40 -0500 (Sun, 09 Feb 2025) EndedAt: 2025-02-09 22:11:03 -0500 (Sun, 09 Feb 2025) EllapsedTime: 23.8 seconds RetCode: 0 Status: OK PackageFile: treeio_1.31.0.tar.gz PackageFileSize: 678.6 KiB