Package: trio Version: 3.45.2 Maintainer: Holger Schwender MaintainerEmail: holger.schw at gmx.de git_url: https://git.bioconductor.org/packages/trio git_branch: devel git_last_commit: e7425b1 git_last_commit_date: 2024-12-28 08:04:14 -0500 (Sat, 28 Dec 2024)