Package: trio Version: 3.45.2 Command: /home/biocbuild/R/R/bin/R CMD check --install=check:trio.install-out.txt --library=/home/biocbuild/R/R/site-library --no-vignettes --timings trio_3.45.2.tar.gz StartedAt: 2025-01-27 13:39:07 -0000 (Mon, 27 Jan 2025) EndedAt: 2025-01-27 13:42:37 -0000 (Mon, 27 Jan 2025) EllapsedTime: 210.3 seconds RetCode: 0 Status: OK CheckDir: trio.Rcheck Warnings: 0