Package: trio Version: 3.45.2 Command: rm -rf trio.buildbin-libdir && mkdir trio.buildbin-libdir && /Users/biocbuild/BBS/utils/build-universal.sh trio_3.45.2.tar.gz /Library/Frameworks/R.framework/Resources/bin/R trio.buildbin-libdir StartedAt: 2025-02-13 01:03:33 -0500 (Thu, 13 Feb 2025) EndedAt: 2025-02-13 01:04:09 -0500 (Thu, 13 Feb 2025) EllapsedTime: 35.9 seconds RetCode: 0 Status: OK PackageFile: trio_3.45.2.tgz PackageFileSize: 1.637 MiB