Package: trio Version: 3.45.2 Command: /Library/Frameworks/R.framework/Resources/bin/R CMD build --keep-empty-dirs --no-resave-data trio StartedAt: 2025-02-09 18:46:36 -0500 (Sun, 09 Feb 2025) EndedAt: 2025-02-09 18:47:36 -0500 (Sun, 09 Feb 2025) EllapsedTime: 59.5 seconds RetCode: 0 Status: OK PackageFile: trio_3.45.2.tar.gz PackageFileSize: 752.7 KiB