Package: trio Version: 3.45.2 Command: rm -rf trio.buildbin-libdir && mkdir trio.buildbin-libdir && E:\biocbuild\bbs-3.21-bioc\R\bin\R.exe CMD INSTALL --build --library=trio.buildbin-libdir trio_3.45.2.tar.gz StartedAt: 2025-02-10 08:54:42 -0500 (Mon, 10 Feb 2025) EndedAt: 2025-02-10 08:55:50 -0500 (Mon, 10 Feb 2025) EllapsedTime: 68.6 seconds RetCode: 0 Status: OK PackageFile: trio_3.45.2.zip PackageFileSize: 1.585 MiB