Package: trio Version: 3.45.2 Command: chmod a+r trio -R && E:\biocbuild\bbs-3.21-bioc\R\bin\R.exe CMD build --keep-empty-dirs --no-resave-data trio StartedAt: 2025-02-09 22:11:13 -0500 (Sun, 09 Feb 2025) EndedAt: 2025-02-09 22:12:35 -0500 (Sun, 09 Feb 2025) EllapsedTime: 82.3 seconds RetCode: 0 Status: OK PackageFile: trio_3.45.2.tar.gz PackageFileSize: 696.6 KiB