Package: trio Version: 3.45.2 Command: E:\biocbuild\bbs-3.21-bioc\R\bin\R.exe CMD INSTALL trio StartedAt: 2025-02-12 16:01:08 -0500 (Wed, 12 Feb 2025) EndedAt: 2025-02-12 16:01:52 -0500 (Wed, 12 Feb 2025) EllapsedTime: 44.8 seconds RetCode: 0 Status: OK