Package: triplex Version: 1.47.0 Command: /home/biocbuild/R/R/bin/R CMD build --keep-empty-dirs --no-resave-data triplex StartedAt: 2025-01-28 03:01:57 -0000 (Tue, 28 Jan 2025) EndedAt: 2025-01-28 03:02:38 -0000 (Tue, 28 Jan 2025) EllapsedTime: 41.0 seconds RetCode: 0 Status: OK PackageFile: triplex_1.47.0.tar.gz PackageFileSize: 566.7 KiB