Package: triplex Version: 1.47.0 Command: /home/biocbuild/R/R/bin/R CMD check --install=check:triplex.install-out.txt --library=/home/biocbuild/R/R/site-library --no-vignettes --timings triplex_1.47.0.tar.gz StartedAt: 2025-01-28 16:22:00 -0000 (Tue, 28 Jan 2025) EndedAt: 2025-01-28 16:24:27 -0000 (Tue, 28 Jan 2025) EllapsedTime: 147.2 seconds RetCode: 0 Status: WARNINGS CheckDir: triplex.Rcheck Warnings: 2