Package: triplex Version: 1.47.0 Command: /Library/Frameworks/R.framework/Resources/bin/R CMD build --keep-empty-dirs --no-resave-data triplex StartedAt: 2025-02-12 18:38:12 -0500 (Wed, 12 Feb 2025) EndedAt: 2025-02-12 18:38:48 -0500 (Wed, 12 Feb 2025) EllapsedTime: 36.6 seconds RetCode: 0 Status: OK PackageFile: triplex_1.47.0.tar.gz PackageFileSize: 599.9 KiB