Package: triplex Version: 1.47.0 Command: E:\biocbuild\bbs-3.21-bioc\R\bin\R.exe CMD check --no-multiarch --install=check:triplex.install-out.txt --library=E:\biocbuild\bbs-3.21-bioc\R\library --no-vignettes --timings triplex_1.47.0.tar.gz StartedAt: 2025-02-10 06:22:22 -0500 (Mon, 10 Feb 2025) EndedAt: 2025-02-10 06:24:06 -0500 (Mon, 10 Feb 2025) EllapsedTime: 103.2 seconds RetCode: 0 Status: WARNINGS CheckDir: triplex.Rcheck Warnings: 2