Package: tripr Version: 1.13.0 Command: /home/biocbuild/R/R/bin/R CMD INSTALL tripr StartedAt: 2025-01-29 20:09:42 -0000 (Wed, 29 Jan 2025) EndedAt: 2025-01-29 20:10:24 -0000 (Wed, 29 Jan 2025) EllapsedTime: 42.1 seconds RetCode: 0 Status: OK