Package: tripr Version: 1.13.0 Command: rm -rf tripr.buildbin-libdir && mkdir tripr.buildbin-libdir && /Users/biocbuild/BBS/utils/build-universal.sh tripr_1.13.0.tar.gz /Library/Frameworks/R.framework/Resources/bin/R tripr.buildbin-libdir StartedAt: 2025-02-10 01:21:24 -0500 (Mon, 10 Feb 2025) EndedAt: 2025-02-10 01:22:22 -0500 (Mon, 10 Feb 2025) EllapsedTime: 58.3 seconds RetCode: 0 Status: OK PackageFile: tripr_1.13.0.tgz PackageFileSize: 4.086 MiB