Package: tripr Version: 1.13.0 Command: /Library/Frameworks/R.framework/Resources/bin/R CMD build --keep-empty-dirs --no-resave-data tripr StartedAt: 2025-02-12 18:38:13 -0500 (Wed, 12 Feb 2025) EndedAt: 2025-02-12 18:39:14 -0500 (Wed, 12 Feb 2025) EllapsedTime: 60.7 seconds RetCode: 0 Status: OK PackageFile: tripr_1.13.0.tar.gz PackageFileSize: 2.938 MiB