Package: tripr Version: 1.13.0 Command: /Library/Frameworks/R.framework/Resources/bin/R CMD check --install=check:tripr.install-out.txt --library=/Library/Frameworks/R.framework/Resources/library --no-vignettes --timings tripr_1.13.0.tar.gz StartedAt: 2025-02-10 00:13:56 -0500 (Mon, 10 Feb 2025) EndedAt: 2025-02-10 00:17:29 -0500 (Mon, 10 Feb 2025) EllapsedTime: 212.9 seconds RetCode: 0 Status: WARNINGS CheckDir: tripr.Rcheck Warnings: 1