Package: tripr Version: 1.13.0 Command: /Library/Frameworks/R.framework/Resources/bin/R CMD INSTALL tripr StartedAt: 2025-02-09 15:27:45 -0500 (Sun, 09 Feb 2025) EndedAt: 2025-02-09 15:28:35 -0500 (Sun, 09 Feb 2025) EllapsedTime: 50.5 seconds RetCode: 0 Status: OK