Package: tripr Version: 1.13.0 Command: /home/biocbuild/bbs-3.21-bioc/R/bin/R CMD build --keep-empty-dirs --no-resave-data tripr StartedAt: 2025-02-09 19:40:10 -0500 (Sun, 09 Feb 2025) EndedAt: 2025-02-09 19:40:53 -0500 (Sun, 09 Feb 2025) EllapsedTime: 43.1 seconds RetCode: 0 Status: OK PackageFile: tripr_1.13.0.tar.gz PackageFileSize: 2.938 MiB