Package: tripr Version: 1.13.0 Command: chmod a+r tripr -R && E:\biocbuild\bbs-3.21-bioc\R\bin\R.exe CMD build --keep-empty-dirs --no-resave-data tripr StartedAt: 2025-02-09 22:11:17 -0500 (Sun, 09 Feb 2025) EndedAt: 2025-02-09 22:12:19 -0500 (Sun, 09 Feb 2025) EllapsedTime: 62.8 seconds RetCode: 0 Status: OK PackageFile: tripr_1.13.0.tar.gz PackageFileSize: 2.938 MiB