Package: tripr Version: 1.13.0 Command: E:\biocbuild\bbs-3.21-bioc\R\bin\R.exe CMD INSTALL tripr StartedAt: 2025-02-12 15:50:55 -0500 (Wed, 12 Feb 2025) EndedAt: 2025-02-12 15:52:15 -0500 (Wed, 12 Feb 2025) EllapsedTime: 79.8 seconds RetCode: 0 Status: OK