Package: ttgsea Version: 1.15.0 Command: /Library/Frameworks/R.framework/Resources/bin/R CMD build --keep-empty-dirs --no-resave-data ttgsea StartedAt: 2025-02-12 17:51:52 -0500 (Wed, 12 Feb 2025) EndedAt: 2025-02-12 17:52:08 -0500 (Wed, 12 Feb 2025) EllapsedTime: 16.2 seconds RetCode: 1 Status: ERROR PackageFile: None PackageFileSize: NA