Package: ttgsea Version: 1.15.0 Command: /home/biocbuild/R/R/bin/R CMD INSTALL ttgsea StartedAt: 2025-01-29 20:36:28 -0000 (Wed, 29 Jan 2025) EndedAt: 2025-01-29 20:36:40 -0000 (Wed, 29 Jan 2025) EllapsedTime: 12.4 seconds RetCode: 0 Status: OK