Package: ttgsea Version: 1.15.0 Command: /Library/Frameworks/R.framework/Resources/bin/R CMD build --keep-empty-dirs --no-resave-data ttgsea StartedAt: 2025-02-09 18:47:06 -0500 (Sun, 09 Feb 2025) EndedAt: 2025-02-09 18:47:50 -0500 (Sun, 09 Feb 2025) EllapsedTime: 43.6 seconds RetCode: 1 Status: ERROR PackageFile: None PackageFileSize: NA