Package: ttgsea Version: 1.15.0 Command: /home/biocbuild/bbs-3.21-bioc/R/bin/R CMD check --install=check:ttgsea.install-out.txt --library=/home/biocbuild/bbs-3.21-bioc/R/site-library --timings ttgsea_1.15.0.tar.gz StartedAt: 2025-02-10 03:35:04 -0500 (Mon, 10 Feb 2025) EndedAt: 2025-02-10 03:36:53 -0500 (Mon, 10 Feb 2025) EllapsedTime: 109.2 seconds RetCode: 0 Status: OK CheckDir: ttgsea.Rcheck Warnings: 0